BEGIN:VCALENDAR
VERSION:2.0
PRODID:-//hacksw/handcal//NONSGML v1.0//EN
BEGIN:VEVENT
SUMMARY:rando groupe  2 confirmation de la sortie
UID:d776b22a-de8d-4b0a-becf-62ee3df4ace4
DTSTART:20260421T053000Z
DTEND:20260421T160000Z
LOCATION:Localisation   
CATEGORIES:Sportif
STATUS:
DESCRIPTION:<p>BOonjour a tous </p>
 
 <p>pour mardi 21/04  nous
 irons au lac d'ilheou  par le cambasque </p>
 
 <p>depart
 07h30 </p>
 
 <p>distance 10km </p>
 
 <p>denivelle 650
 m</p>
 
 <p>covoiturage 10 euros</p>
 
 <p>prevoir tout de meme au moins
 les crampons ,  les crampons et raquettes si possibles</p>
 
 <p>Henri
 VDB</p>
URL;VALUE=URI:https://www.baladours.com/evenements/2026/04/21/rando-groupe-2-confirmation-de-la-sortie-2442647
END:VEVENT
END:VCALENDAR
