BEGIN:VCALENDAR
VERSION:2.0
PRODID:-//hacksw/handcal//NONSGML v1.0//EN
BEGIN:VEVENT
SUMMARY:gr3 du 21 04 26 avec resto sortie confirmee
UID:b16cfa0f-ea91-43a6-9a01-0d58b7285a6f
DTSTART:20260420T220000Z
DTEND:20260421T220000Z
LOCATION:Localisation   
CATEGORIES:Sportif
STATUS:
DESCRIPTION:<p>bonjour a tous </p>
 
 <p>confirmation de la
 sortie</p>
 
 <p>rendez vous aa 12 h 15 au restaurant la pastourelle a
 benac pour ceux qui ne marchent pas l</p>
 
 <p>pour mardi 21 04 26
 nous irons faire une partie de la pierre du diable a benac ensuite
 resto</p>
 
 <p>covoiturage 3 euros</p>
 
 <p>5 km </p>
 
 <p>denivele 120
 m</p>
 
 <p>depart 8h30</p>
 
 <p>repas a la pastourelle a
 benac </p>
 
 <p>entree plat dessertcafe apero et vin </p>
 
 <p>25
 euros par personne maxi </p>
 
 <p>toutes les personnes ne marchant
 pourront nous rejoindre  au restaurant entre 12 h et 12
 h30</p>
 
 <p><span style="color:#e74c3c;">s'inscrire aupres d
 arlette  au 0633779632 AVANT SAMEDI MIDI 18 04 26</span></p>
URL;VALUE=URI:https://www.baladours.com/evenements/2026/04/21/gr3-du-21-04-26-avec-resto-sortie-confirmee-2441602
END:VEVENT
END:VCALENDAR
